BEGIN:VCALENDAR
VERSION:2.0
PRODID:-//Cotton End Primary School - ECPv6.15.17//NONSGML v1.0//EN
CALSCALE:GREGORIAN
METHOD:PUBLISH
X-WR-CALNAME:Cotton End Primary School
X-ORIGINAL-URL:https://cottonendforestschool.co.uk
X-WR-CALDESC:Events for Cotton End Primary School
REFRESH-INTERVAL;VALUE=DURATION:PT1H
X-Robots-Tag:noindex
X-PUBLISHED-TTL:PT1H
BEGIN:VTIMEZONE
TZID:UTC
BEGIN:STANDARD
TZOFFSETFROM:+0000
TZOFFSETTO:+0000
TZNAME:UTC
DTSTART:20190101T000000
END:STANDARD
END:VTIMEZONE
BEGIN:VEVENT
DTSTART;TZID=UTC:20201102T090000
DTEND;TZID=UTC:20201102T090000
DTSTAMP:20260421T090527
CREATED:20200106T164907Z
LAST-MODIFIED:20200106T164907Z
UID:4381-1604307600-1604307600@cottonendforestschool.co.uk
SUMMARY:Teacher training day school closed to all pupils
DESCRIPTION:
URL:https://cottonendforestschool.co.uk/event/teacher-training-day-school-closed-to-all-pupils-6/
END:VEVENT
BEGIN:VEVENT
DTSTART;TZID=UTC:20201103T090000
DTEND;TZID=UTC:20201103T090000
DTSTAMP:20260421T090527
CREATED:20200106T164945Z
LAST-MODIFIED:20200106T164945Z
UID:4383-1604394000-1604394000@cottonendforestschool.co.uk
SUMMARY:First day back to school for all pupils
DESCRIPTION:
URL:https://cottonendforestschool.co.uk/event/first-day-back-to-school-for-all-pupils-7/
END:VEVENT
BEGIN:VEVENT
DTSTART;TZID=UTC:20201104T000000
DTEND;TZID=UTC:20201104T000000
DTSTAMP:20260421T090527
CREATED:20201007T103911Z
LAST-MODIFIED:20201007T103911Z
UID:6171-1604448000-1604448000@cottonendforestschool.co.uk
SUMMARY:Bookings close for Friday afternoon Care Club for children in Reception - Year 6
DESCRIPTION:
URL:https://cottonendforestschool.co.uk/event/bookings-close-for-friday-afternoon-care-club-for-children-in-reception-year-6/
END:VEVENT
BEGIN:VEVENT
DTSTART;VALUE=DATE:20201109
DTEND;VALUE=DATE:20201110
DTSTAMP:20260421T090527
CREATED:20200930T124957Z
LAST-MODIFIED:20200930T124957Z
UID:6166-1604880000-1604966399@cottonendforestschool.co.uk
SUMMARY:Flu immunisations- Reception - Year 6
DESCRIPTION:
URL:https://cottonendforestschool.co.uk/event/flu-immunisations-reception-year-6/
END:VEVENT
END:VCALENDAR