BEGIN:VCALENDAR
VERSION:2.0
PRODID:-//Cotton End Primary School - ECPv6.15.17//NONSGML v1.0//EN
CALSCALE:GREGORIAN
METHOD:PUBLISH
X-WR-CALNAME:Cotton End Primary School
X-ORIGINAL-URL:https://cottonendforestschool.co.uk
X-WR-CALDESC:Events for Cotton End Primary School
REFRESH-INTERVAL;VALUE=DURATION:PT1H
X-Robots-Tag:noindex
X-PUBLISHED-TTL:PT1H
BEGIN:VTIMEZONE
TZID:UTC
BEGIN:STANDARD
TZOFFSETFROM:+0000
TZOFFSETTO:+0000
TZNAME:UTC
DTSTART:20190101T000000
END:STANDARD
END:VTIMEZONE
BEGIN:VEVENT
DTSTART;TZID=UTC:20200302T153000
DTEND;TZID=UTC:20200302T153000
DTSTAMP:20260422T005124
CREATED:20200122T152359Z
LAST-MODIFIED:20200122T152612Z
UID:4436-1583163000-1583163000@cottonendforestschool.co.uk
SUMMARY:African Drum club starts after school today until 4.30pm for years 1 and 2
DESCRIPTION:African Drum club starts after school today until 4.30pm
URL:https://cottonendforestschool.co.uk/event/african-drum-club-for-years-1-and-2/
END:VEVENT
BEGIN:VEVENT
DTSTART;TZID=UTC:20200302T153000
DTEND;TZID=UTC:20200303T160000
DTSTAMP:20260422T005124
CREATED:20200214T150615Z
LAST-MODIFIED:20200217T082645Z
UID:4491-1583163000-1583251200@cottonendforestschool.co.uk
SUMMARY:Scholastic book fair
DESCRIPTION:
URL:https://cottonendforestschool.co.uk/event/scholastic-book-fayre-2/
END:VEVENT
BEGIN:VEVENT
DTSTART;TZID=UTC:20200303T153000
DTEND;TZID=UTC:20200303T153000
DTSTAMP:20260422T005124
CREATED:20200122T152725Z
LAST-MODIFIED:20200122T152739Z
UID:4441-1583249400-1583249400@cottonendforestschool.co.uk
SUMMARY:Dance club starts after school today until 4.30pm for years 2 and above
DESCRIPTION:
URL:https://cottonendforestschool.co.uk/event/dance-club-starts-after-school-today-until-4-30pm-for-years-2-and-above/
END:VEVENT
BEGIN:VEVENT
DTSTART;TZID=UTC:20200303T153000
DTEND;TZID=UTC:20200303T153000
DTSTAMP:20260422T005124
CREATED:20200214T145341Z
LAST-MODIFIED:20200214T145341Z
UID:4477-1583249400-1583249400@cottonendforestschool.co.uk
SUMMARY:Football club starts today after school until 4.30pm for years 4\,5 and 6
DESCRIPTION:
URL:https://cottonendforestschool.co.uk/event/football-club-starts-today-after-school-until-4-30pm-for-years-45-and-6/
END:VEVENT
BEGIN:VEVENT
DTSTART;TZID=UTC:20200304T090000
DTEND;TZID=UTC:20200304T090000
DTSTAMP:20260422T005124
CREATED:20200214T145625Z
LAST-MODIFIED:20200302T081133Z
UID:4481-1583312400-1583312400@cottonendforestschool.co.uk
SUMMARY:Coffee morning for parents/carers in Cherrys\, Oaks\, Willows\, Owls and Woodpeckers with our Family Support Worker
DESCRIPTION:
URL:https://cottonendforestschool.co.uk/event/coffee-morning-for-parents-carers-in-oaks-willows-owls-and-woodpeckers-with-our-family-support-worker/
END:VEVENT
BEGIN:VEVENT
DTSTART;TZID=UTC:20200304T120000
DTEND;TZID=UTC:20200304T120000
DTSTAMP:20260422T005124
CREATED:20191217T141323Z
LAST-MODIFIED:20191217T141323Z
UID:4328-1583323200-1583323200@cottonendforestschool.co.uk
SUMMARY:Library van
DESCRIPTION:
URL:https://cottonendforestschool.co.uk/event/library-van-22/
END:VEVENT
BEGIN:VEVENT
DTSTART;TZID=UTC:20200304T153000
DTEND;TZID=UTC:20200304T153000
DTSTAMP:20260422T005124
CREATED:20200122T152445Z
LAST-MODIFIED:20200122T152514Z
UID:4438-1583335800-1583335800@cottonendforestschool.co.uk
SUMMARY:African Drum club starts today after school until 4.30pm for years 3\,4\,5 and 6
DESCRIPTION:
URL:https://cottonendforestschool.co.uk/event/african-drum-club-starts-today-after-school-until-4-30pm-for-years-345-and-6/
END:VEVENT
BEGIN:VEVENT
DTSTART;TZID=UTC:20200304T153000
DTEND;TZID=UTC:20200304T153000
DTSTAMP:20260422T005124
CREATED:20200122T153837Z
LAST-MODIFIED:20200122T153837Z
UID:4443-1583335800-1583335800@cottonendforestschool.co.uk
SUMMARY:Ninja Academy starts after school today until 4.30pm for years 1 and above
DESCRIPTION:
URL:https://cottonendforestschool.co.uk/event/ninja-academy-starts-after-school-today-until-4-30pm-for-years-1-and-above/
END:VEVENT
BEGIN:VEVENT
DTSTART;TZID=UTC:20200305T153000
DTEND;TZID=UTC:20200305T153000
DTSTAMP:20260422T005124
CREATED:20200123T083602Z
LAST-MODIFIED:20200123T083602Z
UID:4445-1583422200-1583422200@cottonendforestschool.co.uk
SUMMARY:Gymnastic club starts after school today until 4.30pm
DESCRIPTION:
URL:https://cottonendforestschool.co.uk/event/gymnastic-club-starts-after-school-today-until-4-30pm-2/
END:VEVENT
BEGIN:VEVENT
DTSTART;TZID=UTC:20200305T153000
DTEND;TZID=UTC:20200305T153000
DTSTAMP:20260422T005124
CREATED:20200128T153406Z
LAST-MODIFIED:20200128T153406Z
UID:4464-1583422200-1583422200@cottonendforestschool.co.uk
SUMMARY:Choir club starts today after school until 4.20pm for years 3\,4\,5 and 6
DESCRIPTION:
URL:https://cottonendforestschool.co.uk/event/choir-club-starts-today-after-school-until-4-20pm-for-years-345-and-6/
END:VEVENT
BEGIN:VEVENT
DTSTART;TZID=UTC:20200312T090000
DTEND;TZID=UTC:20200312T090000
DTSTAMP:20260422T005124
CREATED:20200214T145827Z
LAST-MODIFIED:20200214T145827Z
UID:4483-1584003600-1584003600@cottonendforestschool.co.uk
SUMMARY:Coffee morning for parents/carers in Kingfishers\, Eagles\, Ospreys and Kestrels with our Family Support Worker
DESCRIPTION:
URL:https://cottonendforestschool.co.uk/event/coffee-morning-for-parents-carers-in-kingfishers-eagles-ospreys-and-kestrels-with-our-family-support-worker/
END:VEVENT
BEGIN:VEVENT
DTSTART;TZID=UTC:20200317T090000
DTEND;TZID=UTC:20200317T090000
DTSTAMP:20260422T005124
CREATED:20200302T081009Z
LAST-MODIFIED:20200302T081009Z
UID:4511-1584435600-1584435600@cottonendforestschool.co.uk
SUMMARY:Wimpole Farm trip - Willows and Oaks class
DESCRIPTION:
URL:https://cottonendforestschool.co.uk/event/wimpole-farm-trip-willows-and-oaks-class/
END:VEVENT
BEGIN:VEVENT
DTSTART;TZID=UTC:20200318T090000
DTEND;TZID=UTC:20200318T090000
DTSTAMP:20260422T005124
CREATED:20200302T080942Z
LAST-MODIFIED:20200302T080942Z
UID:4509-1584522000-1584522000@cottonendforestschool.co.uk
SUMMARY:Wimpole Farm trip - Owls class
DESCRIPTION:
URL:https://cottonendforestschool.co.uk/event/wimpole-farm-trip-owls-class/
END:VEVENT
BEGIN:VEVENT
DTSTART;TZID=UTC:20200318T120000
DTEND;TZID=UTC:20200318T120000
DTSTAMP:20260422T005124
CREATED:20191217T141733Z
LAST-MODIFIED:20191217T141733Z
UID:4330-1584532800-1584532800@cottonendforestschool.co.uk
SUMMARY:Library van
DESCRIPTION:
URL:https://cottonendforestschool.co.uk/event/library-van-23/
END:VEVENT
BEGIN:VEVENT
DTSTART;TZID=UTC:20200325T090000
DTEND;TZID=UTC:20200325T090000
DTSTAMP:20260422T005124
CREATED:20200214T145944Z
LAST-MODIFIED:20200302T081111Z
UID:4485-1585126800-1585126800@cottonendforestschool.co.uk
SUMMARY:Coffee morning for parents/carers in Cherrys\, Oaks\, Willows\, Owls and Woodpeckers
DESCRIPTION:
URL:https://cottonendforestschool.co.uk/event/coffee-morning-for-parents-carers-in-oaks-willows-owls-and-woodpeckers/
END:VEVENT
END:VCALENDAR