BEGIN:VCALENDAR
VERSION:2.0
PRODID:-//Cotton End Primary School - ECPv6.15.17//NONSGML v1.0//EN
CALSCALE:GREGORIAN
METHOD:PUBLISH
X-WR-CALNAME:Cotton End Primary School
X-ORIGINAL-URL:https://cottonendforestschool.co.uk
X-WR-CALDESC:Events for Cotton End Primary School
REFRESH-INTERVAL;VALUE=DURATION:PT1H
X-Robots-Tag:noindex
X-PUBLISHED-TTL:PT1H
BEGIN:VTIMEZONE
TZID:UTC
BEGIN:STANDARD
TZOFFSETFROM:+0000
TZOFFSETTO:+0000
TZNAME:UTC
DTSTART:20190101T000000
END:STANDARD
END:VTIMEZONE
BEGIN:VEVENT
DTSTART;TZID=UTC:20200106T090000
DTEND;TZID=UTC:20200106T090000
DTSTAMP:20260422T043640
CREATED:20191127T150953Z
LAST-MODIFIED:20191127T150953Z
UID:4250-1578301200-1578301200@cottonendforestschool.co.uk
SUMMARY:First day back to school for all pupils
DESCRIPTION:
URL:https://cottonendforestschool.co.uk/event/first-day-back-to-school-for-all-pupils-5/
END:VEVENT
BEGIN:VEVENT
DTSTART;TZID=UTC:20200108T120000
DTEND;TZID=UTC:20200108T120000
DTSTAMP:20260422T043640
CREATED:20191217T141017Z
LAST-MODIFIED:20191217T141017Z
UID:4322-1578484800-1578484800@cottonendforestschool.co.uk
SUMMARY:Library van
DESCRIPTION:
URL:https://cottonendforestschool.co.uk/event/library-van-19/
END:VEVENT
BEGIN:VEVENT
DTSTART;TZID=UTC:20200113T153000
DTEND;TZID=UTC:20200113T153000
DTSTAMP:20260422T043640
CREATED:20191203T083242Z
LAST-MODIFIED:20191203T083343Z
UID:4259-1578929400-1578929400@cottonendforestschool.co.uk
SUMMARY:Ninja Academy starts today after school until 4.30pm
DESCRIPTION:
URL:https://cottonendforestschool.co.uk/event/ninja-academy-starts-today-after-school-until-4-30pm-4/
END:VEVENT
BEGIN:VEVENT
DTSTART;TZID=UTC:20200113T153000
DTEND;TZID=UTC:20200113T153000
DTSTAMP:20260422T043640
CREATED:20200109T101353Z
LAST-MODIFIED:20200109T101353Z
UID:4395-1578929400-1578929400@cottonendforestschool.co.uk
SUMMARY:African drum club after school for Years 1 and 2 from 3.30-4.30pm
DESCRIPTION:
URL:https://cottonendforestschool.co.uk/event/african-drum-club-after-school-for-years-1-and-2-from-3-30-4-30pm/
END:VEVENT
BEGIN:VEVENT
DTSTART;TZID=UTC:20200114T153000
DTEND;TZID=UTC:20200114T153000
DTSTAMP:20260422T043640
CREATED:20191203T083434Z
LAST-MODIFIED:20191203T083434Z
UID:4261-1579015800-1579015800@cottonendforestschool.co.uk
SUMMARY:Dance club starts today after school until 4.30pm
DESCRIPTION:
URL:https://cottonendforestschool.co.uk/event/dance-club-starts-today-after-school-until-4-30pm-5/
END:VEVENT
BEGIN:VEVENT
DTSTART;TZID=UTC:20200115T153000
DTEND;TZID=UTC:20200115T153000
DTSTAMP:20260422T043640
CREATED:20191203T083512Z
LAST-MODIFIED:20191203T083512Z
UID:4263-1579102200-1579102200@cottonendforestschool.co.uk
SUMMARY:Ninja Academy starts today after school until 4.30pm
DESCRIPTION:
URL:https://cottonendforestschool.co.uk/event/ninja-academy-starts-today-after-school-until-4-30pm-5/
END:VEVENT
BEGIN:VEVENT
DTSTART;TZID=UTC:20200115T153000
DTEND;TZID=UTC:20200115T153000
DTSTAMP:20260422T043640
CREATED:20200109T102525Z
LAST-MODIFIED:20200120T150052Z
UID:4397-1579102200-1579102200@cottonendforestschool.co.uk
SUMMARY:African Drum club after school for Years 3\,4\,5 and 6
DESCRIPTION:
URL:https://cottonendforestschool.co.uk/event/african-drum-club-after-school-for-years-345-and-6/
END:VEVENT
BEGIN:VEVENT
DTSTART;TZID=UTC:20200116T153000
DTEND;TZID=UTC:20200116T153000
DTSTAMP:20260422T043640
CREATED:20191203T083907Z
LAST-MODIFIED:20191203T110619Z
UID:4265-1579188600-1579188600@cottonendforestschool.co.uk
SUMMARY:Gymnastic club starts today after school until 4.30pm
DESCRIPTION:
URL:https://cottonendforestschool.co.uk/event/gymnastic-club-starts-today-after-school-until-4-30pm/
END:VEVENT
BEGIN:VEVENT
DTSTART;TZID=UTC:20200116T153000
DTEND;TZID=UTC:20200116T153000
DTSTAMP:20260422T043640
CREATED:20200109T103243Z
LAST-MODIFIED:20200109T103243Z
UID:4403-1579188600-1579188600@cottonendforestschool.co.uk
SUMMARY:Choir club after school today until 4.30pm
DESCRIPTION:
URL:https://cottonendforestschool.co.uk/event/choir-club-after-school-today-until-4-30pm/
END:VEVENT
BEGIN:VEVENT
DTSTART;TZID=UTC:20200121T090000
DTEND;TZID=UTC:20200121T090000
DTSTAMP:20260422T043640
CREATED:20200109T091339Z
LAST-MODIFIED:20200109T091547Z
UID:4391-1579597200-1579597200@cottonendforestschool.co.uk
SUMMARY:Parent internet safety presentation
DESCRIPTION:
URL:https://cottonendforestschool.co.uk/event/parent-internet-safety-presentation/
END:VEVENT
BEGIN:VEVENT
DTSTART;TZID=UTC:20200122T120000
DTEND;TZID=UTC:20200122T120000
DTSTAMP:20260422T043640
CREATED:20191217T141216Z
LAST-MODIFIED:20191217T141216Z
UID:4324-1579694400-1579694400@cottonendforestschool.co.uk
SUMMARY:Library van
DESCRIPTION:
URL:https://cottonendforestschool.co.uk/event/library-van-20/
END:VEVENT
END:VCALENDAR