BEGIN:VCALENDAR
VERSION:2.0
PRODID:-//Cotton End Primary School - ECPv6.15.17//NONSGML v1.0//EN
CALSCALE:GREGORIAN
METHOD:PUBLISH
X-ORIGINAL-URL:https://cottonendforestschool.co.uk
X-WR-CALDESC:Events for Cotton End Primary School
REFRESH-INTERVAL;VALUE=DURATION:PT1H
X-Robots-Tag:noindex
X-PUBLISHED-TTL:PT1H
BEGIN:VTIMEZONE
TZID:UTC
BEGIN:STANDARD
TZOFFSETFROM:+0000
TZOFFSETTO:+0000
TZNAME:UTC
DTSTART:20180101T000000
END:STANDARD
END:VTIMEZONE
BEGIN:VEVENT
DTSTART;TZID=UTC:20191104T090000
DTEND;TZID=UTC:20191104T153000
DTSTAMP:20260422T083731
CREATED:20191104T080715Z
LAST-MODIFIED:20191104T080715Z
UID:4194-1572858000-1572881400@cottonendforestschool.co.uk
SUMMARY:Faith tour- more information to follow
DESCRIPTION:
URL:https://cottonendforestschool.co.uk/event/faith-tour-more-information-to-follow/
END:VEVENT
BEGIN:VEVENT
DTSTART;TZID=UTC:20191104T153000
DTEND;TZID=UTC:20191104T153000
DTSTAMP:20260422T083731
CREATED:20191008T141022Z
LAST-MODIFIED:20191008T141022Z
UID:4129-1572881400-1572881400@cottonendforestschool.co.uk
SUMMARY:Ninja Academy starts today after school until 4.30pm
DESCRIPTION:
URL:https://cottonendforestschool.co.uk/event/ninja-academy-starts-today-after-school-until-4-30pm-2/
END:VEVENT
BEGIN:VEVENT
DTSTART;TZID=UTC:20191104T153000
DTEND;TZID=UTC:20191104T163000
DTSTAMP:20260422T083731
CREATED:20191104T123119Z
LAST-MODIFIED:20191104T123119Z
UID:4209-1572881400-1572885000@cottonendforestschool.co.uk
SUMMARY:No Ninja Academy after school today
DESCRIPTION:
URL:https://cottonendforestschool.co.uk/event/no-ninja-academy-after-school-today/
END:VEVENT
BEGIN:VEVENT
DTSTART;TZID=UTC:20191105T153000
DTEND;TZID=UTC:20191105T153000
DTSTAMP:20260422T083731
CREATED:20191008T103203Z
LAST-MODIFIED:20191008T103203Z
UID:4121-1572967800-1572967800@cottonendforestschool.co.uk
SUMMARY:Dance club starts after school today until 4.30pm
DESCRIPTION:
URL:https://cottonendforestschool.co.uk/event/dance-club-starts-after-school-today-until-4-30pm-3/
END:VEVENT
BEGIN:VEVENT
DTSTART;TZID=UTC:20191105T153000
DTEND;TZID=UTC:20191105T153000
DTSTAMP:20260422T083731
CREATED:20191010T075115Z
LAST-MODIFIED:20191010T075115Z
UID:4133-1572967800-1572967800@cottonendforestschool.co.uk
SUMMARY:Football club starts today until 4.30pm for Years 4\, 5 and 6
DESCRIPTION:
URL:https://cottonendforestschool.co.uk/event/football-club-starts-today-until-4-30pm-for-years-4-5-and-6/
END:VEVENT
BEGIN:VEVENT
DTSTART;TZID=UTC:20191106T153000
DTEND;TZID=UTC:20191106T153000
DTSTAMP:20260422T083731
CREATED:20191104T080222Z
LAST-MODIFIED:20191104T080222Z
UID:4185-1573054200-1573054200@cottonendforestschool.co.uk
SUMMARY:Ninja Academy starts today after school until 4.30pm
DESCRIPTION:
URL:https://cottonendforestschool.co.uk/event/ninja-academy-starts-today-after-school-until-4-30pm-3/
END:VEVENT
BEGIN:VEVENT
DTSTART;TZID=UTC:20191107T153000
DTEND;TZID=UTC:20191107T153000
DTSTAMP:20260422T083731
CREATED:20191008T140707Z
LAST-MODIFIED:20191008T140707Z
UID:4125-1573140600-1573140600@cottonendforestschool.co.uk
SUMMARY:Gymnastic club starts after school today until 4.30pm
DESCRIPTION:
URL:https://cottonendforestschool.co.uk/event/gymnastic-club-starts-after-school-today-until-4-30pm/
END:VEVENT
BEGIN:VEVENT
DTSTART;TZID=UTC:20191107T153000
DTEND;TZID=UTC:20191107T153000
DTSTAMP:20260422T083731
CREATED:20191104T080906Z
LAST-MODIFIED:20191104T080906Z
UID:4200-1573140600-1573140600@cottonendforestschool.co.uk
SUMMARY:Choir club starts today after school until 4.30pm
DESCRIPTION:
URL:https://cottonendforestschool.co.uk/event/choir-club-starts-today-after-school-until-4-30pm/
END:VEVENT
BEGIN:VEVENT
DTSTART;TZID=UTC:20191113T120000
DTEND;TZID=UTC:20191113T120000
DTSTAMP:20260422T083731
CREATED:20191104T080357Z
LAST-MODIFIED:20191104T080357Z
UID:4189-1573646400-1573646400@cottonendforestschool.co.uk
SUMMARY:Library van
DESCRIPTION:
URL:https://cottonendforestschool.co.uk/event/library-van-17/
END:VEVENT
BEGIN:VEVENT
DTSTART;TZID=UTC:20191113T153000
DTEND;TZID=UTC:20191113T153000
DTSTAMP:20260422T083731
CREATED:20191107T081955Z
LAST-MODIFIED:20191107T081955Z
UID:4215-1573659000-1573659000@cottonendforestschool.co.uk
SUMMARY:No Ninja Academy today after school- session will be held on December 11th instead
DESCRIPTION:
URL:https://cottonendforestschool.co.uk/event/no-ninja-academy-today-after-school-session-will-be-held-on-december-11th-instead/
END:VEVENT
BEGIN:VEVENT
DTSTART;TZID=UTC:20191115T080000
DTEND;TZID=UTC:20191115T080000
DTSTAMP:20260422T083731
CREATED:20191104T080309Z
LAST-MODIFIED:20191104T080309Z
UID:4187-1573804800-1573804800@cottonendforestschool.co.uk
SUMMARY:Children In Need- more information to follow
DESCRIPTION:
URL:https://cottonendforestschool.co.uk/event/children-in-need-more-information-to-follow/
END:VEVENT
BEGIN:VEVENT
DTSTART;TZID=UTC:20191119T180000
DTEND;TZID=UTC:20191119T180000
DTSTAMP:20260422T083731
CREATED:20191104T080010Z
LAST-MODIFIED:20191104T080124Z
UID:4182-1574186400-1574186400@cottonendforestschool.co.uk
SUMMARY:Open evening for those due to start Reception in September 2020
DESCRIPTION:
URL:https://cottonendforestschool.co.uk/event/open-evening-for-those-due-to-start-reception-in-september-2020/
END:VEVENT
BEGIN:VEVENT
DTSTART;TZID=UTC:20191125T080000
DTEND;TZID=UTC:20191125T080000
DTSTAMP:20260422T083731
CREATED:20191104T080604Z
LAST-MODIFIED:20191104T080633Z
UID:4191-1574668800-1574668800@cottonendforestschool.co.uk
SUMMARY:Flu Immunisation for those who have consented for Reception - Year 6
DESCRIPTION:
URL:https://cottonendforestschool.co.uk/event/flu-immunisation-for-those-who-have-consented-for-reception-up-to-year-6/
END:VEVENT
BEGIN:VEVENT
DTSTART;TZID=UTC:20191126T093000
DTEND;TZID=UTC:20191126T093000
DTSTAMP:20260422T083731
CREATED:20191118T101233Z
LAST-MODIFIED:20191121T101911Z
UID:4225-1574760600-1574760600@cottonendforestschool.co.uk
SUMMARY:Faith tour- years 3\,4 and 5
DESCRIPTION:
URL:https://cottonendforestschool.co.uk/event/faith-tour-years-345-6/
END:VEVENT
BEGIN:VEVENT
DTSTART;TZID=UTC:20191127T120000
DTEND;TZID=UTC:20191127T120000
DTSTAMP:20260422T083731
CREATED:20191104T080751Z
LAST-MODIFIED:20191104T080751Z
UID:4196-1574856000-1574856000@cottonendforestschool.co.uk
SUMMARY:Library van
DESCRIPTION:
URL:https://cottonendforestschool.co.uk/event/library-van-18/
END:VEVENT
END:VCALENDAR