BEGIN:VCALENDAR
VERSION:2.0
PRODID:-//Cotton End Primary School - ECPv6.15.17//NONSGML v1.0//EN
CALSCALE:GREGORIAN
METHOD:PUBLISH
X-ORIGINAL-URL:https://cottonendforestschool.co.uk
X-WR-CALDESC:Events for Cotton End Primary School
REFRESH-INTERVAL;VALUE=DURATION:PT1H
X-Robots-Tag:noindex
X-PUBLISHED-TTL:PT1H
BEGIN:VTIMEZONE
TZID:UTC
BEGIN:STANDARD
TZOFFSETFROM:+0000
TZOFFSETTO:+0000
TZNAME:UTC
DTSTART:20180101T000000
END:STANDARD
END:VTIMEZONE
BEGIN:VEVENT
DTSTART;TZID=UTC:20190603T083000
DTEND;TZID=UTC:20190603T083000
DTSTAMP:20260422T180902
CREATED:20181214T135259Z
LAST-MODIFIED:20181214T135259Z
UID:3600-1559550600-1559550600@cottonendforestschool.co.uk
SUMMARY:First day back to school for all pupils
DESCRIPTION:
URL:https://cottonendforestschool.co.uk/event/first-day-back-to-school-for-all-pupils/
END:VEVENT
BEGIN:VEVENT
DTSTART;TZID=UTC:20190603T153000
DTEND;TZID=UTC:20190603T153000
DTSTAMP:20260422T180902
CREATED:20190514T140814Z
LAST-MODIFIED:20190514T140814Z
UID:3835-1559575800-1559575800@cottonendforestschool.co.uk
SUMMARY:Ninja Academy starts after school today until 4.30pm- Years 1 to 6
DESCRIPTION:
URL:https://cottonendforestschool.co.uk/event/ninja-academy-starts-after-school-today-until-4-30pm-years-1-to-6/
END:VEVENT
BEGIN:VEVENT
DTSTART;TZID=UTC:20190604T153000
DTEND;TZID=UTC:20190604T153000
DTSTAMP:20260422T180902
CREATED:20190514T140725Z
LAST-MODIFIED:20190514T140725Z
UID:3833-1559662200-1559662200@cottonendforestschool.co.uk
SUMMARY:Dance club starts after school today until 4.30pm
DESCRIPTION:
URL:https://cottonendforestschool.co.uk/event/dance-club-starts-after-school-today-until-4-30pm-2/
END:VEVENT
BEGIN:VEVENT
DTSTART;TZID=UTC:20190604T153000
DTEND;TZID=UTC:20190604T153000
DTSTAMP:20260422T180902
CREATED:20190521T145738Z
LAST-MODIFIED:20190521T145738Z
UID:3863-1559662200-1559662200@cottonendforestschool.co.uk
SUMMARY:Football club starts today after school until 4.30pm for Kestrels class
DESCRIPTION:
URL:https://cottonendforestschool.co.uk/event/football-club-starts-today-after-school-until-4-30pm-for-kestrels-class/
END:VEVENT
BEGIN:VEVENT
DTSTART;TZID=UTC:20190606T153000
DTEND;TZID=UTC:20190606T153000
DTSTAMP:20260422T180902
CREATED:20190514T140642Z
LAST-MODIFIED:20190514T140642Z
UID:3831-1559835000-1559835000@cottonendforestschool.co.uk
SUMMARY:Summer sports club starts after school today until 4.30pm
DESCRIPTION:
URL:https://cottonendforestschool.co.uk/event/summer-sports-club-starts-after-school-today-until-4-30pm/
END:VEVENT
BEGIN:VEVENT
DTSTART;TZID=UTC:20190607T090000
DTEND;TZID=UTC:20190607T090000
DTSTAMP:20260422T180902
CREATED:20190513T095416Z
LAST-MODIFIED:20190513T095416Z
UID:3817-1559898000-1559898000@cottonendforestschool.co.uk
SUMMARY:Swimming lessons start today Years 4\, 5\, and 6
DESCRIPTION:
URL:https://cottonendforestschool.co.uk/event/swimming-lessons-start-today-years-4-5-and-6/
END:VEVENT
BEGIN:VEVENT
DTSTART;TZID=UTC:20190612T153000
DTEND;TZID=UTC:20190612T153000
DTSTAMP:20260422T180902
CREATED:20190521T145935Z
LAST-MODIFIED:20190521T145935Z
UID:3867-1560353400-1560353400@cottonendforestschool.co.uk
SUMMARY:Art club starts today after school until 4.30pm for KS2
DESCRIPTION:
URL:https://cottonendforestschool.co.uk/event/art-club-starts-today-after-school-until-4-30pm-for-ks2/
END:VEVENT
BEGIN:VEVENT
DTSTART;TZID=UTC:20190617T080000
DTEND;TZID=UTC:20190617T163000
DTSTAMP:20260422T180902
CREATED:20190617T131837Z
LAST-MODIFIED:20190617T131837Z
UID:3911-1560758400-1560789000@cottonendforestschool.co.uk
SUMMARY:Cherry class individual photos to be returned to school for ordering
DESCRIPTION:
URL:https://cottonendforestschool.co.uk/event/cherry-class-individual-photos-to-be-returned-to-school-for-ordering/
END:VEVENT
BEGIN:VEVENT
DTSTART;TZID=UTC:20190624T080000
DTEND;TZID=UTC:20190624T080000
DTSTAMP:20260422T180902
CREATED:20190617T131038Z
LAST-MODIFIED:20190617T131056Z
UID:3903-1561363200-1561363200@cottonendforestschool.co.uk
SUMMARY:Class photo's to be returned to school for ordering
DESCRIPTION:
URL:https://cottonendforestschool.co.uk/event/class-photos-to-be-returned-to-school-for-ordering/
END:VEVENT
BEGIN:VEVENT
DTSTART;TZID=UTC:20190626T120000
DTEND;TZID=UTC:20190626T120000
DTSTAMP:20260422T180902
CREATED:20190617T131143Z
LAST-MODIFIED:20190617T131143Z
UID:3905-1561550400-1561550400@cottonendforestschool.co.uk
SUMMARY:Library van
DESCRIPTION:
URL:https://cottonendforestschool.co.uk/event/library-van-13/
END:VEVENT
END:VCALENDAR