BEGIN:VCALENDAR
VERSION:2.0
PRODID:-//Cotton End Primary School - ECPv6.15.17//NONSGML v1.0//EN
CALSCALE:GREGORIAN
METHOD:PUBLISH
X-WR-CALNAME:Cotton End Primary School
X-ORIGINAL-URL:https://cottonendforestschool.co.uk
X-WR-CALDESC:Events for Cotton End Primary School
REFRESH-INTERVAL;VALUE=DURATION:PT1H
X-Robots-Tag:noindex
X-PUBLISHED-TTL:PT1H
BEGIN:VTIMEZONE
TZID:UTC
BEGIN:STANDARD
TZOFFSETFROM:+0000
TZOFFSETTO:+0000
TZNAME:UTC
DTSTART:20180101T000000
END:STANDARD
END:VTIMEZONE
BEGIN:VEVENT
DTSTART;TZID=UTC:20190402T080000
DTEND;TZID=UTC:20190402T080000
DTSTAMP:20260422T214558
CREATED:20190208T135604Z
LAST-MODIFIED:20190208T135604Z
UID:3684-1554192000-1554192000@cottonendforestschool.co.uk
SUMMARY:Last after school Dance club today with performance at 4.15pm
DESCRIPTION:
URL:https://cottonendforestschool.co.uk/event/last-after-school-dance-club-today-with-performance-at-4-15pm-2/
END:VEVENT
BEGIN:VEVENT
DTSTART;TZID=UTC:20190404T153000
DTEND;TZID=UTC:20190404T153000
DTSTAMP:20260422T214558
CREATED:20190208T135641Z
LAST-MODIFIED:20190208T135739Z
UID:3686-1554391800-1554391800@cottonendforestschool.co.uk
SUMMARY:Last after school Gymnastic club today until 4.30pm
DESCRIPTION:
URL:https://cottonendforestschool.co.uk/event/last-after-school-gymnastic-club-today-until-4-30pm/
END:VEVENT
BEGIN:VEVENT
DTSTART;VALUE=DATE:20190405
DTEND;VALUE=DATE:20190406
DTSTAMP:20260422T214558
CREATED:20180921T135349Z
LAST-MODIFIED:20180921T135349Z
UID:3371-1554422400-1554508799@cottonendforestschool.co.uk
SUMMARY:Last day of term before break
DESCRIPTION:
URL:https://cottonendforestschool.co.uk/event/last-day-of-term-before-break/
END:VEVENT
BEGIN:VEVENT
DTSTART;TZID=UTC:20190405T083000
DTEND;TZID=UTC:20190405T083000
DTSTAMP:20260422T214558
CREATED:20190327T143020Z
LAST-MODIFIED:20190327T143020Z
UID:3767-1554453000-1554453000@cottonendforestschool.co.uk
SUMMARY:PTFA event Easter Hamper raffle and uniform swap- tickets on sale before and after school only
DESCRIPTION:
URL:https://cottonendforestschool.co.uk/event/ptfa-event-easter-hamper-raffle-and-uniform-swap-tickets-on-sale-before-and-after-school-only/
END:VEVENT
BEGIN:VEVENT
DTSTART;TZID=UTC:20190415T140000
DTEND;TZID=UTC:20190415T140000
DTSTAMP:20260422T214558
CREATED:20190402T133106Z
LAST-MODIFIED:20190402T133106Z
UID:3778-1555336800-1555336800@cottonendforestschool.co.uk
SUMMARY:PTFA - Fun Day 2-4pm at Cotton End Village Hall
DESCRIPTION:
URL:https://cottonendforestschool.co.uk/event/ptfa-fun-day-2-4pm-at-cotton-end-village-hall/
END:VEVENT
BEGIN:VEVENT
DTSTART;VALUE=DATE:20190423
DTEND;VALUE=DATE:20190424
DTSTAMP:20260422T214558
CREATED:20180921T135314Z
LAST-MODIFIED:20180921T135314Z
UID:3369-1555977600-1556063999@cottonendforestschool.co.uk
SUMMARY:First day back to school for all pupils
DESCRIPTION:
URL:https://cottonendforestschool.co.uk/event/first-day-back-to-school-for-all-pupils-2/
END:VEVENT
BEGIN:VEVENT
DTSTART;TZID=UTC:20190423T153000
DTEND;TZID=UTC:20190423T153000
DTSTAMP:20260422T214558
CREATED:20190327T142404Z
LAST-MODIFIED:20190327T142404Z
UID:3755-1556033400-1556033400@cottonendforestschool.co.uk
SUMMARY:Dance club starts after school today until 4.30pm
DESCRIPTION:
URL:https://cottonendforestschool.co.uk/event/dance-club-starts-after-school-today-until-4-30pm/
END:VEVENT
BEGIN:VEVENT
DTSTART;TZID=UTC:20190424T153000
DTEND;TZID=UTC:20190424T153000
DTSTAMP:20260422T214558
CREATED:20190404T130216Z
LAST-MODIFIED:20190404T130216Z
UID:3783-1556119800-1556119800@cottonendforestschool.co.uk
SUMMARY:Art club starts after school today until 4.30pm for KS2
DESCRIPTION:
URL:https://cottonendforestschool.co.uk/event/art-club-starts-after-school-today-until-4-30pm-for-ks2/
END:VEVENT
BEGIN:VEVENT
DTSTART;TZID=UTC:20190425T153000
DTEND;TZID=UTC:20190425T153000
DTSTAMP:20260422T214558
CREATED:20190401T092315Z
LAST-MODIFIED:20190404T120856Z
UID:3770-1556206200-1556206200@cottonendforestschool.co.uk
SUMMARY:Summer sports club starts today after school until 4.30pm- Years 2\, 3\, 4\, 5 and 6- PLEASE NOTE WE ARE NOW FULL IN THIS CLUB
DESCRIPTION:They will be doing a range of summer sports which could include; athletics\, rounder’s and cricket
URL:https://cottonendforestschool.co.uk/event/summer-sports-club-starts-today-after-school-until-4-30pm-years-2-3-4-5-and-6/
END:VEVENT
BEGIN:VEVENT
DTSTART;TZID=UTC:20190429T153000
DTEND;TZID=UTC:20190429T153000
DTSTAMP:20260422T214558
CREATED:20190327T142324Z
LAST-MODIFIED:20190327T142324Z
UID:3753-1556551800-1556551800@cottonendforestschool.co.uk
SUMMARY:Ninja Academy starts after school today - Year 1 to Year 6. PLEASE NOTE WE ARE NOW FULL FOR THIS CLUB
DESCRIPTION:Please see letter sent home for more details and dates it is running
URL:https://cottonendforestschool.co.uk/event/ninja-academy-starts-after-school-today-year-1-to-year-6-please-note-we-are-now-full-for-this-club/
END:VEVENT
END:VCALENDAR