BEGIN:VCALENDAR
VERSION:2.0
PRODID:-//Cotton End Primary School - ECPv6.15.17//NONSGML v1.0//EN
CALSCALE:GREGORIAN
METHOD:PUBLISH
X-ORIGINAL-URL:https://cottonendforestschool.co.uk
X-WR-CALDESC:Events for Cotton End Primary School
REFRESH-INTERVAL;VALUE=DURATION:PT1H
X-Robots-Tag:noindex
X-PUBLISHED-TTL:PT1H
BEGIN:VTIMEZONE
TZID:UTC
BEGIN:STANDARD
TZOFFSETFROM:+0000
TZOFFSETTO:+0000
TZNAME:UTC
DTSTART:20180101T000000
END:STANDARD
END:VTIMEZONE
BEGIN:VEVENT
DTSTART;VALUE=DATE:20190102
DTEND;VALUE=DATE:20190103
DTSTAMP:20260423T025738
CREATED:20180921T135633Z
LAST-MODIFIED:20180921T135633Z
UID:3381-1546387200-1546473599@cottonendforestschool.co.uk
SUMMARY:Teacher training day school closed to pupils
DESCRIPTION:
URL:https://cottonendforestschool.co.uk/event/teacher-training-day-school-closed-to-pupils/
END:VEVENT
BEGIN:VEVENT
DTSTART;VALUE=DATE:20190103
DTEND;VALUE=DATE:20190104
DTSTAMP:20260423T025738
CREATED:20180921T135608Z
LAST-MODIFIED:20180921T135608Z
UID:3379-1546473600-1546559999@cottonendforestschool.co.uk
SUMMARY:First day back to school for all pupils
DESCRIPTION:
URL:https://cottonendforestschool.co.uk/event/first-day-back-to-school-for-all-pupils-3/
END:VEVENT
BEGIN:VEVENT
DTSTART;TZID=UTC:20190108T153000
DTEND;TZID=UTC:20190108T153000
DTSTAMP:20260423T025738
CREATED:20181129T080754Z
LAST-MODIFIED:20181129T080754Z
UID:3544-1546961400-1546961400@cottonendforestschool.co.uk
SUMMARY:Dance club starts today after school until 4.30pm
DESCRIPTION:
URL:https://cottonendforestschool.co.uk/event/dance-club-starts-today-after-school-until-4-30pm-3/
END:VEVENT
BEGIN:VEVENT
DTSTART;TZID=UTC:20190109T120000
DTEND;TZID=UTC:20190109T120000
DTSTAMP:20260423T025738
CREATED:20181211T144050Z
LAST-MODIFIED:20181211T144050Z
UID:3576-1547035200-1547035200@cottonendforestschool.co.uk
SUMMARY:Library van
DESCRIPTION:
URL:https://cottonendforestschool.co.uk/event/library-van-7/
END:VEVENT
BEGIN:VEVENT
DTSTART;TZID=UTC:20190110T153000
DTEND;TZID=UTC:20190110T153000
DTSTAMP:20260423T025738
CREATED:20181211T141851Z
LAST-MODIFIED:20181211T141851Z
UID:3572-1547134200-1547134200@cottonendforestschool.co.uk
SUMMARY:Sports club starts today after school until 4.30pm - Gymnastics
DESCRIPTION:
URL:https://cottonendforestschool.co.uk/event/sports-club-starts-today-after-school-until-4-30pm-gymnastics/
END:VEVENT
BEGIN:VEVENT
DTSTART;TZID=UTC:20190123T120000
DTEND;TZID=UTC:20190123T120000
DTSTAMP:20260423T025738
CREATED:20181211T144125Z
LAST-MODIFIED:20181211T144125Z
UID:3578-1548244800-1548244800@cottonendforestschool.co.uk
SUMMARY:Library van
DESCRIPTION:
URL:https://cottonendforestschool.co.uk/event/library-van-8/
END:VEVENT
BEGIN:VEVENT
DTSTART;TZID=UTC:20190124T080000
DTEND;TZID=UTC:20190124T153000
DTSTAMP:20260423T025738
CREATED:20190116T144102Z
LAST-MODIFIED:20190116T144102Z
UID:3627-1548316800-1548343800@cottonendforestschool.co.uk
SUMMARY:Dr Bike coming in to offer a free health check to bikes for children in Owls\, Kingfishers\, Eagles and Kestrels
DESCRIPTION:
URL:https://cottonendforestschool.co.uk/event/dr-bike-coming-in-to-offer-a-free-health-check-to-bikes-for-children-in-owls-kingfishers-eagles-and-kestrels/
END:VEVENT
END:VCALENDAR