BEGIN:VCALENDAR
VERSION:2.0
PRODID:-//Cotton End Primary School - ECPv6.15.17//NONSGML v1.0//EN
CALSCALE:GREGORIAN
METHOD:PUBLISH
X-WR-CALNAME:Cotton End Primary School
X-ORIGINAL-URL:https://cottonendforestschool.co.uk
X-WR-CALDESC:Events for Cotton End Primary School
REFRESH-INTERVAL;VALUE=DURATION:PT1H
X-Robots-Tag:noindex
X-PUBLISHED-TTL:PT1H
BEGIN:VTIMEZONE
TZID:UTC
BEGIN:STANDARD
TZOFFSETFROM:+0000
TZOFFSETTO:+0000
TZNAME:UTC
DTSTART:20170101T000000
END:STANDARD
END:VTIMEZONE
BEGIN:VEVENT
DTSTART;TZID=UTC:20181204T153000
DTEND;TZID=UTC:20181204T153000
DTSTAMP:20260423T044137
CREATED:20181022T104327Z
LAST-MODIFIED:20181022T104327Z
UID:3467-1543937400-1543937400@cottonendforestschool.co.uk
SUMMARY:Last after school Dance club today until 4.30pm  with performance at 4.15pm
DESCRIPTION:
URL:https://cottonendforestschool.co.uk/event/last-after-school-dance-club-today-until-4-30pm-with-performance-at-4-15pm/
END:VEVENT
BEGIN:VEVENT
DTSTART;TZID=UTC:20181206T000000
DTEND;TZID=UTC:20181206T000000
DTSTAMP:20260423T044137
CREATED:20181109T143620Z
LAST-MODIFIED:20181109T143620Z
UID:3511-1544054400-1544054400@cottonendforestschool.co.uk
SUMMARY:Eagles class are going to Kings House for J-Sax concert
DESCRIPTION:
URL:https://cottonendforestschool.co.uk/event/eagles-class-are-going-to-kings-house-for-j-sax-concert/
END:VEVENT
BEGIN:VEVENT
DTSTART;TZID=UTC:20181208T120000
DTEND;TZID=UTC:20181208T120000
DTSTAMP:20260423T044137
CREATED:20181127T104237Z
LAST-MODIFIED:20181127T104237Z
UID:3536-1544270400-1544270400@cottonendforestschool.co.uk
SUMMARY:PTFA  Christmas Fayre at Cotton End Village Hall
DESCRIPTION:
URL:https://cottonendforestschool.co.uk/event/ptfa-christmas-fayre-at-cotton-end-village-hall/
END:VEVENT
BEGIN:VEVENT
DTSTART;TZID=UTC:20181211T083000
DTEND;TZID=UTC:20181211T083000
DTSTAMP:20260423T044137
CREATED:20181109T143713Z
LAST-MODIFIED:20181109T143713Z
UID:3513-1544517000-1544517000@cottonendforestschool.co.uk
SUMMARY:Kingfishers class trip to Scott Polar Museum in Cambridge
DESCRIPTION:
URL:https://cottonendforestschool.co.uk/event/kingfishers-class-trip-to-scott-polar-museum-in-cambridge/
END:VEVENT
BEGIN:VEVENT
DTSTART;TZID=UTC:20181212T120000
DTEND;TZID=UTC:20181212T120000
DTSTAMP:20260423T044137
CREATED:20181029T164931Z
LAST-MODIFIED:20181210T154754Z
UID:3495-1544616000-1544616000@cottonendforestschool.co.uk
SUMMARY:Christmas dinner - children can wear their Christmas jumper today with their normal uniform
DESCRIPTION:
URL:https://cottonendforestschool.co.uk/event/christmas-dinner-letter-to-follow/
END:VEVENT
BEGIN:VEVENT
DTSTART;TZID=UTC:20181213T153000
DTEND;TZID=UTC:20181213T153000
DTSTAMP:20260423T044137
CREATED:20181022T104418Z
LAST-MODIFIED:20181022T104418Z
UID:3469-1544715000-1544715000@cottonendforestschool.co.uk
SUMMARY:Last after school Multi sports club until 4.30pm
DESCRIPTION:
URL:https://cottonendforestschool.co.uk/event/last-after-school-multi-sports-club-until-4-30pm/
END:VEVENT
BEGIN:VEVENT
DTSTART;TZID=UTC:20181214T090000
DTEND;TZID=UTC:20181214T090000
DTSTAMP:20260423T044137
CREATED:20181211T090540Z
LAST-MODIFIED:20181211T090540Z
UID:3568-1544778000-1544778000@cottonendforestschool.co.uk
SUMMARY:Cherry class Christmas drop in session 9-10am see letter sent home for more information
DESCRIPTION:
URL:https://cottonendforestschool.co.uk/event/cherry-class-christmas-drop-in-session-9-10am-see-letter-sent-home-for-more-information/
END:VEVENT
BEGIN:VEVENT
DTSTART;TZID=UTC:20181217T000000
DTEND;TZID=UTC:20181217T000000
DTSTAMP:20260423T044137
CREATED:20181109T143749Z
LAST-MODIFIED:20181210T154838Z
UID:3515-1545004800-1545004800@cottonendforestschool.co.uk
SUMMARY:Smiley Sam
DESCRIPTION:
URL:https://cottonendforestschool.co.uk/event/smiley-sam-christmas-train-visiting-more-information-to-follow/
END:VEVENT
BEGIN:VEVENT
DTSTART;TZID=UTC:20181217T140000
DTEND;TZID=UTC:20181217T150000
DTSTAMP:20260423T044137
CREATED:20181109T143853Z
LAST-MODIFIED:20181109T144550Z
UID:3517-1545055200-1545058800@cottonendforestschool.co.uk
SUMMARY:Owls and Kingfishers class Christmas concert 2pm in the school hall
DESCRIPTION:
URL:https://cottonendforestschool.co.uk/event/owls-and-kingfishers-class-christmas-concert-2pm-in-the-school-hall/
END:VEVENT
BEGIN:VEVENT
DTSTART;TZID=UTC:20181218T100000
DTEND;TZID=UTC:20181218T110000
DTSTAMP:20260423T044137
CREATED:20181109T143941Z
LAST-MODIFIED:20181109T144636Z
UID:3519-1545127200-1545130800@cottonendforestschool.co.uk
SUMMARY:Willows class Christmas concert at 10am in the new building
DESCRIPTION:
URL:https://cottonendforestschool.co.uk/event/willows-class-christmas-concert-at-10am-in-the-new-building/
END:VEVENT
BEGIN:VEVENT
DTSTART;TZID=UTC:20181218T140000
DTEND;TZID=UTC:20181218T140000
DTSTAMP:20260423T044137
CREATED:20181109T144021Z
LAST-MODIFIED:20181109T144021Z
UID:3521-1545141600-1545141600@cottonendforestschool.co.uk
SUMMARY:Eagles and Kestrels class Christmas concert 2pm in the school hall
DESCRIPTION:
URL:https://cottonendforestschool.co.uk/event/eagles-and-kestrels-class-christmas-concert-2pm-in-the-school-hall/
END:VEVENT
BEGIN:VEVENT
DTSTART;TZID=UTC:20181219T080000
DTEND;TZID=UTC:20181219T153000
DTSTAMP:20260423T044137
CREATED:20181211T095234Z
LAST-MODIFIED:20181211T095234Z
UID:3570-1545206400-1545233400@cottonendforestschool.co.uk
SUMMARY:Children can wear their party clothes or Christmas jumper today with sensible shoes/trainers
DESCRIPTION:
URL:https://cottonendforestschool.co.uk/event/children-can-wear-their-party-clothes-or-christmas-jumper-today-with-sensible-shoes-trainers/
END:VEVENT
BEGIN:VEVENT
DTSTART;TZID=UTC:20181219T090000
DTEND;TZID=UTC:20181219T090000
DTSTAMP:20260423T044137
CREATED:20181022T104611Z
LAST-MODIFIED:20181022T104611Z
UID:3472-1545210000-1545210000@cottonendforestschool.co.uk
SUMMARY:Last day of term before Christmas break
DESCRIPTION:
URL:https://cottonendforestschool.co.uk/event/last-day-of-term-before-christmas-break/
END:VEVENT
END:VCALENDAR