BEGIN:VCALENDAR
VERSION:2.0
PRODID:-//Cotton End Primary School - ECPv6.15.17//NONSGML v1.0//EN
CALSCALE:GREGORIAN
METHOD:PUBLISH
X-ORIGINAL-URL:https://cottonendforestschool.co.uk
X-WR-CALDESC:Events for Cotton End Primary School
REFRESH-INTERVAL;VALUE=DURATION:PT1H
X-Robots-Tag:noindex
X-PUBLISHED-TTL:PT1H
BEGIN:VTIMEZONE
TZID:UTC
BEGIN:STANDARD
TZOFFSETFROM:+0000
TZOFFSETTO:+0000
TZNAME:UTC
DTSTART:20170101T000000
END:STANDARD
END:VTIMEZONE
BEGIN:VEVENT
DTSTART;TZID=UTC:20181101T153000
DTEND;TZID=UTC:20181101T163000
DTSTAMP:20260423T063445
CREATED:20181022T103808Z
LAST-MODIFIED:20181022T104506Z
UID:3463-1541086200-1541089800@cottonendforestschool.co.uk
SUMMARY:After school Multi sports club starts today years 2-6 until 4.30pm
DESCRIPTION:
URL:https://cottonendforestschool.co.uk/event/after-school-multi-sports-club-starts-today-years-2-6-until-4-30pm/
END:VEVENT
BEGIN:VEVENT
DTSTART;TZID=UTC:20181106T153000
DTEND;TZID=UTC:20181106T153000
DTSTAMP:20260423T063445
CREATED:20181022T104139Z
LAST-MODIFIED:20181029T162545Z
UID:3465-1541518200-1541518200@cottonendforestschool.co.uk
SUMMARY:Dance club starts today after school until 4.30pm for Kingfishers\, Eagles and Kestrels
DESCRIPTION:
URL:https://cottonendforestschool.co.uk/event/dance-club-starts-today-after-school-until-4-30pm-2/
END:VEVENT
BEGIN:VEVENT
DTSTART;TZID=UTC:20181112T080000
DTEND;TZID=UTC:20181116T153000
DTSTAMP:20260423T063445
CREATED:20181109T144102Z
LAST-MODIFIED:20181109T144102Z
UID:3523-1542009600-1542382200@cottonendforestschool.co.uk
SUMMARY:Anti Bullying week
DESCRIPTION:
URL:https://cottonendforestschool.co.uk/event/anti-bullying-week/
END:VEVENT
BEGIN:VEVENT
DTSTART;TZID=UTC:20181113T080000
DTEND;TZID=UTC:20181113T080000
DTSTAMP:20260423T063445
CREATED:20181022T105839Z
LAST-MODIFIED:20181022T105858Z
UID:3478-1542096000-1542096000@cottonendforestschool.co.uk
SUMMARY:Flu nasal spray for those that consented years R - 5
DESCRIPTION:
URL:https://cottonendforestschool.co.uk/event/flu-nasal-spray-for-those-that-consented-years-r-5/
END:VEVENT
BEGIN:VEVENT
DTSTART;TZID=UTC:20181114T120000
DTEND;TZID=UTC:20181114T120000
DTSTAMP:20260423T063445
CREATED:20181022T110126Z
LAST-MODIFIED:20181022T110150Z
UID:3481-1542196800-1542196800@cottonendforestschool.co.uk
SUMMARY:Library van
DESCRIPTION:
URL:https://cottonendforestschool.co.uk/event/library-van-4/
END:VEVENT
BEGIN:VEVENT
DTSTART;TZID=UTC:20181115T100000
DTEND;TZID=UTC:20181115T100000
DTSTAMP:20260423T063445
CREATED:20181109T143429Z
LAST-MODIFIED:20181109T143429Z
UID:3507-1542276000-1542276000@cottonendforestschool.co.uk
SUMMARY:Owls and Kingfishers class will be visiting the new school site
DESCRIPTION:
URL:https://cottonendforestschool.co.uk/event/owls-and-kingfishers-class-will-be-visiting-the-new-school-site/
END:VEVENT
BEGIN:VEVENT
DTSTART;TZID=UTC:20181116T090000
DTEND;TZID=UTC:20181116T090000
DTSTAMP:20260423T063445
CREATED:20181022T105102Z
LAST-MODIFIED:20181022T105102Z
UID:3476-1542358800-1542358800@cottonendforestschool.co.uk
SUMMARY:Children In Need- Cake sale and Mufti (Letter to follow)
DESCRIPTION:
URL:https://cottonendforestschool.co.uk/event/children-in-need-cake-sale-and-mufti-letter-to-follow/
END:VEVENT
BEGIN:VEVENT
DTSTART;TZID=UTC:20181121T153000
DTEND;TZID=UTC:20181121T153000
DTSTAMP:20260423T063445
CREATED:20181109T143522Z
LAST-MODIFIED:20181109T143522Z
UID:3509-1542814200-1542814200@cottonendforestschool.co.uk
SUMMARY:View your child's art work in the school hall 3.30-4.30pm
DESCRIPTION:
URL:https://cottonendforestschool.co.uk/event/view-your-childs-art-work-in-the-school-hall-3-30-4-30pm/
END:VEVENT
BEGIN:VEVENT
DTSTART;TZID=UTC:20181128T120000
DTEND;TZID=UTC:20181128T120000
DTSTAMP:20260423T063445
CREATED:20181022T110222Z
LAST-MODIFIED:20181109T144321Z
UID:3483-1543406400-1543406400@cottonendforestschool.co.uk
SUMMARY:Last Library van visit for this year
DESCRIPTION:
URL:https://cottonendforestschool.co.uk/event/library-van-5/
END:VEVENT
BEGIN:VEVENT
DTSTART;TZID=UTC:20181129T090000
DTEND;TZID=UTC:20181129T090000
DTSTAMP:20260423T063445
CREATED:20181127T103142Z
LAST-MODIFIED:20181127T103142Z
UID:3534-1543482000-1543482000@cottonendforestschool.co.uk
SUMMARY:Year 4 Sports trip
DESCRIPTION:
URL:https://cottonendforestschool.co.uk/event/year-4-sports-trip/
END:VEVENT
END:VCALENDAR