BEGIN:VCALENDAR
VERSION:2.0
PRODID:-//Cotton End Primary School - ECPv6.15.17//NONSGML v1.0//EN
CALSCALE:GREGORIAN
METHOD:PUBLISH
X-WR-CALNAME:Cotton End Primary School
X-ORIGINAL-URL:https://cottonendforestschool.co.uk
X-WR-CALDESC:Events for Cotton End Primary School
REFRESH-INTERVAL;VALUE=DURATION:PT1H
X-Robots-Tag:noindex
X-PUBLISHED-TTL:PT1H
BEGIN:VTIMEZONE
TZID:UTC
BEGIN:STANDARD
TZOFFSETFROM:+0000
TZOFFSETTO:+0000
TZNAME:UTC
DTSTART:20190101T000000
END:STANDARD
END:VTIMEZONE
BEGIN:VEVENT
DTSTART;TZID=UTC:20200914T090000
DTEND;TZID=UTC:20200914T090000
DTSTAMP:20260421T141537
CREATED:20200706T141350Z
LAST-MODIFIED:20200706T141350Z
UID:6012-1600074000-1600074000@cottonendforestschool.co.uk
SUMMARY:Reception children transition morning 9.15-12.30pm please bring a packed lunch
DESCRIPTION:
URL:https://cottonendforestschool.co.uk/event/reception-children-transition-morning-9-15-12-30pm-please-bring-a-packed-lunch/
END:VEVENT
BEGIN:VEVENT
DTSTART;TZID=UTC:20200914T090000
DTEND;TZID=UTC:20200914T090000
DTSTAMP:20260421T141537
CREATED:20200706T151345Z
LAST-MODIFIED:20200706T151345Z
UID:6018-1600074000-1600074000@cottonendforestschool.co.uk
SUMMARY:New Preschool children start their sessions this week
DESCRIPTION:
URL:https://cottonendforestschool.co.uk/event/new-preschool-children-start-their-sessions-this-week/
END:VEVENT
END:VCALENDAR