BEGIN:VCALENDAR
VERSION:2.0
PRODID:-//Cotton End Primary School - ECPv6.15.17//NONSGML v1.0//EN
CALSCALE:GREGORIAN
METHOD:PUBLISH
X-ORIGINAL-URL:https://cottonendforestschool.co.uk
X-WR-CALDESC:Events for Cotton End Primary School
REFRESH-INTERVAL;VALUE=DURATION:PT1H
X-Robots-Tag:noindex
X-PUBLISHED-TTL:PT1H
BEGIN:VTIMEZONE
TZID:UTC
BEGIN:STANDARD
TZOFFSETFROM:+0000
TZOFFSETTO:+0000
TZNAME:UTC
DTSTART:20190101T000000
END:STANDARD
END:VTIMEZONE
BEGIN:VEVENT
DTSTART;TZID=UTC:20200904T090000
DTEND;TZID=UTC:20200904T090000
DTSTAMP:20260421T141532
CREATED:20200106T150544Z
LAST-MODIFIED:20200106T150544Z
UID:4372-1599210000-1599210000@cottonendforestschool.co.uk
SUMMARY:Teacher training day school closed to all pupils
DESCRIPTION:
URL:https://cottonendforestschool.co.uk/event/teacher-training-day-school-closed-to-all-pupils-5/
END:VEVENT
END:VCALENDAR