BEGIN:VCALENDAR
VERSION:2.0
PRODID:-//Cotton End Primary School - ECPv6.15.17//NONSGML v1.0//EN
CALSCALE:GREGORIAN
METHOD:PUBLISH
X-WR-CALNAME:Cotton End Primary School
X-ORIGINAL-URL:https://cottonendforestschool.co.uk
X-WR-CALDESC:Events for Cotton End Primary School
REFRESH-INTERVAL;VALUE=DURATION:PT1H
X-Robots-Tag:noindex
X-PUBLISHED-TTL:PT1H
BEGIN:VTIMEZONE
TZID:UTC
BEGIN:STANDARD
TZOFFSETFROM:+0000
TZOFFSETTO:+0000
TZNAME:UTC
DTSTART:20190101T000000
END:STANDARD
END:VTIMEZONE
BEGIN:VEVENT
DTSTART;TZID=UTC:20200304T090000
DTEND;TZID=UTC:20200304T090000
DTSTAMP:20260422T023944
CREATED:20200214T145625Z
LAST-MODIFIED:20200302T081133Z
UID:4481-1583312400-1583312400@cottonendforestschool.co.uk
SUMMARY:Coffee morning for parents/carers in Cherrys\, Oaks\, Willows\, Owls and Woodpeckers with our Family Support Worker
DESCRIPTION:
URL:https://cottonendforestschool.co.uk/event/coffee-morning-for-parents-carers-in-oaks-willows-owls-and-woodpeckers-with-our-family-support-worker/
END:VEVENT
BEGIN:VEVENT
DTSTART;TZID=UTC:20200304T120000
DTEND;TZID=UTC:20200304T120000
DTSTAMP:20260422T023944
CREATED:20191217T141323Z
LAST-MODIFIED:20191217T141323Z
UID:4328-1583323200-1583323200@cottonendforestschool.co.uk
SUMMARY:Library van
DESCRIPTION:
URL:https://cottonendforestschool.co.uk/event/library-van-22/
END:VEVENT
BEGIN:VEVENT
DTSTART;TZID=UTC:20200304T153000
DTEND;TZID=UTC:20200304T153000
DTSTAMP:20260422T023944
CREATED:20200122T152445Z
LAST-MODIFIED:20200122T152514Z
UID:4438-1583335800-1583335800@cottonendforestschool.co.uk
SUMMARY:African Drum club starts today after school until 4.30pm for years 3\,4\,5 and 6
DESCRIPTION:
URL:https://cottonendforestschool.co.uk/event/african-drum-club-starts-today-after-school-until-4-30pm-for-years-345-and-6/
END:VEVENT
BEGIN:VEVENT
DTSTART;TZID=UTC:20200304T153000
DTEND;TZID=UTC:20200304T153000
DTSTAMP:20260422T023944
CREATED:20200122T153837Z
LAST-MODIFIED:20200122T153837Z
UID:4443-1583335800-1583335800@cottonendforestschool.co.uk
SUMMARY:Ninja Academy starts after school today until 4.30pm for years 1 and above
DESCRIPTION:
URL:https://cottonendforestschool.co.uk/event/ninja-academy-starts-after-school-today-until-4-30pm-for-years-1-and-above/
END:VEVENT
END:VCALENDAR