BEGIN:VCALENDAR
VERSION:2.0
PRODID:-//Cotton End Primary School - ECPv6.15.17//NONSGML v1.0//EN
CALSCALE:GREGORIAN
METHOD:PUBLISH
X-ORIGINAL-URL:https://cottonendforestschool.co.uk
X-WR-CALDESC:Events for Cotton End Primary School
REFRESH-INTERVAL;VALUE=DURATION:PT1H
X-Robots-Tag:noindex
X-PUBLISHED-TTL:PT1H
BEGIN:VTIMEZONE
TZID:UTC
BEGIN:STANDARD
TZOFFSETFROM:+0000
TZOFFSETTO:+0000
TZNAME:UTC
DTSTART:20190101T000000
END:STANDARD
END:VTIMEZONE
BEGIN:VEVENT
DTSTART;TZID=UTC:20200213T153000
DTEND;TZID=UTC:20200213T153000
DTSTAMP:20260422T043638
CREATED:20191203T110855Z
LAST-MODIFIED:20191203T110855Z
UID:4274-1581607800-1581607800@cottonendforestschool.co.uk
SUMMARY:Last Gymnastic club today after school until 4.30pm
DESCRIPTION:
URL:https://cottonendforestschool.co.uk/event/last-gymnastic-club-today-after-school-until-4-30pm-2/
END:VEVENT
BEGIN:VEVENT
DTSTART;TZID=UTC:20200213T153000
DTEND;TZID=UTC:20200213T153000
DTSTAMP:20260422T043638
CREATED:20200109T103316Z
LAST-MODIFIED:20200109T103316Z
UID:4405-1581607800-1581607800@cottonendforestschool.co.uk
SUMMARY:Last Choir club after school today until 4.30pm
DESCRIPTION:
URL:https://cottonendforestschool.co.uk/event/last-choir-club-after-school-today-until-4-30pm-2/
END:VEVENT
END:VCALENDAR