BEGIN:VCALENDAR
VERSION:2.0
PRODID:-//Cotton End Primary School - ECPv6.15.17//NONSGML v1.0//EN
CALSCALE:GREGORIAN
METHOD:PUBLISH
X-ORIGINAL-URL:https://cottonendforestschool.co.uk
X-WR-CALDESC:Events for Cotton End Primary School
REFRESH-INTERVAL;VALUE=DURATION:PT1H
X-Robots-Tag:noindex
X-PUBLISHED-TTL:PT1H
BEGIN:VTIMEZONE
TZID:UTC
BEGIN:STANDARD
TZOFFSETFROM:+0000
TZOFFSETTO:+0000
TZNAME:UTC
DTSTART:20190101T000000
END:STANDARD
END:VTIMEZONE
BEGIN:VEVENT
DTSTART;TZID=UTC:20200205T120000
DTEND;TZID=UTC:20200205T120000
DTSTAMP:20260422T042811
CREATED:20191217T141249Z
LAST-MODIFIED:20191217T141249Z
UID:4326-1580904000-1580904000@cottonendforestschool.co.uk
SUMMARY:Library van
DESCRIPTION:
URL:https://cottonendforestschool.co.uk/event/library-van-21/
END:VEVENT
END:VCALENDAR