BEGIN:VCALENDAR
VERSION:2.0
PRODID:-//Cotton End Primary School - ECPv6.15.17//NONSGML v1.0//EN
CALSCALE:GREGORIAN
METHOD:PUBLISH
X-WR-CALNAME:Cotton End Primary School
X-ORIGINAL-URL:https://cottonendforestschool.co.uk
X-WR-CALDESC:Events for Cotton End Primary School
REFRESH-INTERVAL;VALUE=DURATION:PT1H
X-Robots-Tag:noindex
X-PUBLISHED-TTL:PT1H
BEGIN:VTIMEZONE
TZID:UTC
BEGIN:STANDARD
TZOFFSETFROM:+0000
TZOFFSETTO:+0000
TZNAME:UTC
DTSTART:20180101T000000
END:STANDARD
END:VTIMEZONE
BEGIN:VEVENT
DTSTART;TZID=UTC:20191218T120000
DTEND;TZID=UTC:20191218T120000
DTSTAMP:20260422T083642
CREATED:20191104T081026Z
LAST-MODIFIED:20191104T081026Z
UID:4204-1576670400-1576670400@cottonendforestschool.co.uk
SUMMARY:Christmas dinner
DESCRIPTION:
URL:https://cottonendforestschool.co.uk/event/christmas-dinner/
END:VEVENT
BEGIN:VEVENT
DTSTART;TZID=UTC:20191218T140000
DTEND;TZID=UTC:20191218T140000
DTSTAMP:20260422T083642
CREATED:20191118T102259Z
LAST-MODIFIED:20191205T074419Z
UID:4239-1576677600-1576677600@cottonendforestschool.co.uk
SUMMARY:Cherry class- Christmas fun for 3 year olds and parents 2pm
DESCRIPTION:
URL:https://cottonendforestschool.co.uk/event/cherry-class-christmas-fun-for-3-year-olds-and-parents-2pm-more-information-to-follow/
END:VEVENT
END:VCALENDAR