BEGIN:VCALENDAR
VERSION:2.0
PRODID:-//Cotton End Primary School - ECPv6.15.17//NONSGML v1.0//EN
CALSCALE:GREGORIAN
METHOD:PUBLISH
X-ORIGINAL-URL:https://cottonendforestschool.co.uk
X-WR-CALDESC:Events for Cotton End Primary School
REFRESH-INTERVAL;VALUE=DURATION:PT1H
X-Robots-Tag:noindex
X-PUBLISHED-TTL:PT1H
BEGIN:VTIMEZONE
TZID:UTC
BEGIN:STANDARD
TZOFFSETFROM:+0000
TZOFFSETTO:+0000
TZNAME:UTC
DTSTART:20180101T000000
END:STANDARD
END:VTIMEZONE
BEGIN:VEVENT
DTSTART;TZID=UTC:20191216T103000
DTEND;TZID=UTC:20191216T103000
DTSTAMP:20260422T083731
CREATED:20191118T101555Z
LAST-MODIFIED:20191205T074531Z
UID:4231-1576492200-1576492200@cottonendforestschool.co.uk
SUMMARY:Reception class Christmas performance 10.30am
DESCRIPTION:
URL:https://cottonendforestschool.co.uk/event/reception-class-christmas-performance-10-30am-more-information-to-follow/
END:VEVENT
BEGIN:VEVENT
DTSTART;TZID=UTC:20191216T140000
DTEND;TZID=UTC:20191216T140000
DTSTAMP:20260422T083731
CREATED:20191118T102224Z
LAST-MODIFIED:20191205T074500Z
UID:4237-1576504800-1576504800@cottonendforestschool.co.uk
SUMMARY:Cherry class- Christmas fun for 2 year olds and parents 2pm
DESCRIPTION:
URL:https://cottonendforestschool.co.uk/event/cherry-class-christmas-fun-for-2-year-olds-and-parents-2pm-more-information-to-follow/
END:VEVENT
END:VCALENDAR