BEGIN:VCALENDAR
VERSION:2.0
PRODID:-//Cotton End Primary School - ECPv6.15.17//NONSGML v1.0//EN
CALSCALE:GREGORIAN
METHOD:PUBLISH
X-WR-CALNAME:Cotton End Primary School
X-ORIGINAL-URL:https://cottonendforestschool.co.uk
X-WR-CALDESC:Events for Cotton End Primary School
REFRESH-INTERVAL;VALUE=DURATION:PT1H
X-Robots-Tag:noindex
X-PUBLISHED-TTL:PT1H
BEGIN:VTIMEZONE
TZID:UTC
BEGIN:STANDARD
TZOFFSETFROM:+0000
TZOFFSETTO:+0000
TZNAME:UTC
DTSTART:20180101T000000
END:STANDARD
END:VTIMEZONE
BEGIN:VEVENT
DTSTART;TZID=UTC:20191017T083000
DTEND;TZID=UTC:20191017T083000
DTSTAMP:20260422T121852
CREATED:20191004T135053Z
LAST-MODIFIED:20191004T135053Z
UID:4118-1571301000-1571301000@cottonendforestschool.co.uk
SUMMARY:Parent Consultations 8.30am-7pm for main school only
DESCRIPTION:
URL:https://cottonendforestschool.co.uk/event/parent-consultations-8-30am-7pm-for-main-school-only/
END:VEVENT
BEGIN:VEVENT
DTSTART;TZID=UTC:20191017T153000
DTEND;TZID=UTC:20191017T153000
DTSTAMP:20260422T121852
CREATED:20190722T133055Z
LAST-MODIFIED:20190722T133055Z
UID:3985-1571326200-1571326200@cottonendforestschool.co.uk
SUMMARY:Last Sports club after school until 4.30pm
DESCRIPTION:
URL:https://cottonendforestschool.co.uk/event/last-sports-club-after-school-until-4-30pm/
END:VEVENT
END:VCALENDAR