BEGIN:VCALENDAR
VERSION:2.0
PRODID:-//Cotton End Primary School - ECPv6.15.17//NONSGML v1.0//EN
CALSCALE:GREGORIAN
METHOD:PUBLISH
X-ORIGINAL-URL:https://cottonendforestschool.co.uk
X-WR-CALDESC:Events for Cotton End Primary School
REFRESH-INTERVAL;VALUE=DURATION:PT1H
X-Robots-Tag:noindex
X-PUBLISHED-TTL:PT1H
BEGIN:VTIMEZONE
TZID:UTC
BEGIN:STANDARD
TZOFFSETFROM:+0000
TZOFFSETTO:+0000
TZNAME:UTC
DTSTART:20180101T000000
END:STANDARD
END:VTIMEZONE
BEGIN:VEVENT
DTSTART;TZID=UTC:20191010T083000
DTEND;TZID=UTC:20191010T083000
DTSTAMP:20260422T121842
CREATED:20190917T103504Z
LAST-MODIFIED:20191004T134701Z
UID:4034-1570696200-1570696200@cottonendforestschool.co.uk
SUMMARY:World Mental Health Day- please see letter sent home for more information
DESCRIPTION:
URL:https://cottonendforestschool.co.uk/event/world-mental-health-day-more-information-to-follow/
END:VEVENT
END:VCALENDAR