BEGIN:VCALENDAR
VERSION:2.0
PRODID:-//Cotton End Primary School - ECPv6.15.17//NONSGML v1.0//EN
CALSCALE:GREGORIAN
METHOD:PUBLISH
X-WR-CALNAME:Cotton End Primary School
X-ORIGINAL-URL:https://cottonendforestschool.co.uk
X-WR-CALDESC:Events for Cotton End Primary School
REFRESH-INTERVAL;VALUE=DURATION:PT1H
X-Robots-Tag:noindex
X-PUBLISHED-TTL:PT1H
BEGIN:VTIMEZONE
TZID:UTC
BEGIN:STANDARD
TZOFFSETFROM:+0000
TZOFFSETTO:+0000
TZNAME:UTC
DTSTART:20180101T000000
END:STANDARD
END:VTIMEZONE
BEGIN:VEVENT
DTSTART;TZID=UTC:20190716T080000
DTEND;TZID=UTC:20190716T080000
DTSTAMP:20260422T180907
CREATED:20190620T152629Z
LAST-MODIFIED:20190620T152629Z
UID:3915-1563264000-1563264000@cottonendforestschool.co.uk
SUMMARY:Eagles class trip to Royal Gunpowder Mills
DESCRIPTION:
URL:https://cottonendforestschool.co.uk/event/eagles-class-trip-to-royal-gunpowder-mills/
END:VEVENT
END:VCALENDAR