BEGIN:VCALENDAR
VERSION:2.0
PRODID:-//Cotton End Primary School - ECPv6.15.17//NONSGML v1.0//EN
CALSCALE:GREGORIAN
METHOD:PUBLISH
X-ORIGINAL-URL:https://cottonendforestschool.co.uk
X-WR-CALDESC:Events for Cotton End Primary School
REFRESH-INTERVAL;VALUE=DURATION:PT1H
X-Robots-Tag:noindex
X-PUBLISHED-TTL:PT1H
BEGIN:VTIMEZONE
TZID:UTC
BEGIN:STANDARD
TZOFFSETFROM:+0000
TZOFFSETTO:+0000
TZNAME:UTC
DTSTART:20180101T000000
END:STANDARD
END:VTIMEZONE
BEGIN:VEVENT
DTSTART;TZID=UTC:20190702T090000
DTEND;TZID=UTC:20190702T090000
DTSTAMP:20260422T180902
CREATED:20190617T131239Z
LAST-MODIFIED:20190617T131239Z
UID:3907-1562058000-1562058000@cottonendforestschool.co.uk
SUMMARY:Kestrels class trip to Tring Natural History Museum
DESCRIPTION:
URL:https://cottonendforestschool.co.uk/event/kestrels-class-trip-to-tring-natural-history-museum/
END:VEVENT
END:VCALENDAR