BEGIN:VCALENDAR
VERSION:2.0
PRODID:-//Cotton End Primary School - ECPv6.15.17//NONSGML v1.0//EN
CALSCALE:GREGORIAN
METHOD:PUBLISH
X-WR-CALNAME:Cotton End Primary School
X-ORIGINAL-URL:https://cottonendforestschool.co.uk
X-WR-CALDESC:Events for Cotton End Primary School
REFRESH-INTERVAL;VALUE=DURATION:PT1H
X-Robots-Tag:noindex
X-PUBLISHED-TTL:PT1H
BEGIN:VTIMEZONE
TZID:UTC
BEGIN:STANDARD
TZOFFSETFROM:+0000
TZOFFSETTO:+0000
TZNAME:UTC
DTSTART:20180101T000000
END:STANDARD
END:VTIMEZONE
BEGIN:VEVENT
DTSTART;TZID=UTC:20190520T153000
DTEND;TZID=UTC:20190520T153000
DTSTAMP:20260422T214558
CREATED:20190327T142730Z
LAST-MODIFIED:20190327T142730Z
UID:3762-1558366200-1558366200@cottonendforestschool.co.uk
SUMMARY:Last Ninja Academy after school until 4.30pm
DESCRIPTION:
URL:https://cottonendforestschool.co.uk/event/last-ninja-academy-after-school-until-4-30pm/
END:VEVENT
END:VCALENDAR