BEGIN:VCALENDAR
VERSION:2.0
PRODID:-//Cotton End Primary School - ECPv6.15.17//NONSGML v1.0//EN
CALSCALE:GREGORIAN
METHOD:PUBLISH
X-ORIGINAL-URL:https://cottonendforestschool.co.uk
X-WR-CALDESC:Events for Cotton End Primary School
REFRESH-INTERVAL;VALUE=DURATION:PT1H
X-Robots-Tag:noindex
X-PUBLISHED-TTL:PT1H
BEGIN:VTIMEZONE
TZID:UTC
BEGIN:STANDARD
TZOFFSETFROM:+0000
TZOFFSETTO:+0000
TZNAME:UTC
DTSTART:20180101T000000
END:STANDARD
END:VTIMEZONE
BEGIN:VEVENT
DTSTART;TZID=UTC:20190513T090000
DTEND;TZID=UTC:20190513T090000
DTSTAMP:20260422T215245
CREATED:20190401T101703Z
LAST-MODIFIED:20190401T101703Z
UID:3775-1557738000-1557738000@cottonendforestschool.co.uk
SUMMARY:Year 6 SATS week
DESCRIPTION:
URL:https://cottonendforestschool.co.uk/event/year-6-sats-week/
END:VEVENT
BEGIN:VEVENT
DTSTART;TZID=UTC:20190513T153000
DTEND;TZID=UTC:20190513T153000
DTSTAMP:20260422T215245
CREATED:20190327T142652Z
LAST-MODIFIED:20190327T142652Z
UID:3760-1557761400-1557761400@cottonendforestschool.co.uk
SUMMARY:Ninja Academy today after school until 4.30pm
DESCRIPTION:
URL:https://cottonendforestschool.co.uk/event/ninja-academy-today-after-school-until-4-30pm/
END:VEVENT
END:VCALENDAR