BEGIN:VCALENDAR
VERSION:2.0
PRODID:-//Cotton End Primary School - ECPv6.15.17//NONSGML v1.0//EN
CALSCALE:GREGORIAN
METHOD:PUBLISH
X-ORIGINAL-URL:https://cottonendforestschool.co.uk
X-WR-CALDESC:Events for Cotton End Primary School
REFRESH-INTERVAL;VALUE=DURATION:PT1H
X-Robots-Tag:noindex
X-PUBLISHED-TTL:PT1H
BEGIN:VTIMEZONE
TZID:UTC
BEGIN:STANDARD
TZOFFSETFROM:+0000
TZOFFSETTO:+0000
TZNAME:UTC
DTSTART:20180101T000000
END:STANDARD
END:VTIMEZONE
BEGIN:VEVENT
DTSTART;TZID=UTC:20190402T080000
DTEND;TZID=UTC:20190402T080000
DTSTAMP:20260422T233306
CREATED:20190208T135604Z
LAST-MODIFIED:20190208T135604Z
UID:3684-1554192000-1554192000@cottonendforestschool.co.uk
SUMMARY:Last after school Dance club today with performance at 4.15pm
DESCRIPTION:
URL:https://cottonendforestschool.co.uk/event/last-after-school-dance-club-today-with-performance-at-4-15pm-2/
END:VEVENT
END:VCALENDAR