BEGIN:VCALENDAR
VERSION:2.0
PRODID:-//Cotton End Primary School - ECPv6.15.17//NONSGML v1.0//EN
CALSCALE:GREGORIAN
METHOD:PUBLISH
X-ORIGINAL-URL:https://cottonendforestschool.co.uk
X-WR-CALDESC:Events for Cotton End Primary School
REFRESH-INTERVAL;VALUE=DURATION:PT1H
X-Robots-Tag:noindex
X-PUBLISHED-TTL:PT1H
BEGIN:VTIMEZONE
TZID:UTC
BEGIN:STANDARD
TZOFFSETFROM:+0000
TZOFFSETTO:+0000
TZNAME:UTC
DTSTART:20180101T000000
END:STANDARD
END:VTIMEZONE
BEGIN:VEVENT
DTSTART;TZID=UTC:20190328T090000
DTEND;TZID=UTC:20190328T090000
DTSTAMP:20260423T011548
CREATED:20190313T151819Z
LAST-MODIFIED:20190313T151819Z
UID:3732-1553763600-1553763600@cottonendforestschool.co.uk
SUMMARY:Owls and Willows class trip to Woburn Safari Park
DESCRIPTION:
URL:https://cottonendforestschool.co.uk/event/owls-and-willows-class-trip-to-woburn-safari-park/
END:VEVENT
END:VCALENDAR