BEGIN:VCALENDAR
VERSION:2.0
PRODID:-//Cotton End Primary School - ECPv6.15.17//NONSGML v1.0//EN
CALSCALE:GREGORIAN
METHOD:PUBLISH
X-ORIGINAL-URL:https://cottonendforestschool.co.uk
X-WR-CALDESC:Events for Cotton End Primary School
REFRESH-INTERVAL;VALUE=DURATION:PT1H
X-Robots-Tag:noindex
X-PUBLISHED-TTL:PT1H
BEGIN:VTIMEZONE
TZID:UTC
BEGIN:STANDARD
TZOFFSETFROM:+0000
TZOFFSETTO:+0000
TZNAME:UTC
DTSTART:20180101T000000
END:STANDARD
END:VTIMEZONE
BEGIN:VEVENT
DTSTART;TZID=UTC:20190307T090000
DTEND;TZID=UTC:20190307T153000
DTSTAMP:20260423T011548
CREATED:20190222T154814Z
LAST-MODIFIED:20190222T154814Z
UID:3706-1551949200-1551972600@cottonendforestschool.co.uk
SUMMARY:World Book Day come dressed in your pyjamas
DESCRIPTION:
URL:https://cottonendforestschool.co.uk/event/world-book-day-come-dressed-in-your-pyjamas/
END:VEVENT
BEGIN:VEVENT
DTSTART;TZID=UTC:20190307T150000
DTEND;TZID=UTC:20190307T150000
DTSTAMP:20260423T011548
CREATED:20190222T155000Z
LAST-MODIFIED:20190222T155000Z
UID:3708-1551970800-1551970800@cottonendforestschool.co.uk
SUMMARY:Usborne book sale in the school hall 3-4pm
DESCRIPTION:
URL:https://cottonendforestschool.co.uk/event/usborne-book-sale-in-the-school-hall-3-4pm/
END:VEVENT
END:VCALENDAR