BEGIN:VCALENDAR
VERSION:2.0
PRODID:-//Cotton End Primary School - ECPv6.15.17//NONSGML v1.0//EN
CALSCALE:GREGORIAN
METHOD:PUBLISH
X-ORIGINAL-URL:https://cottonendforestschool.co.uk
X-WR-CALDESC:Events for Cotton End Primary School
REFRESH-INTERVAL;VALUE=DURATION:PT1H
X-Robots-Tag:noindex
X-PUBLISHED-TTL:PT1H
BEGIN:VTIMEZONE
TZID:UTC
BEGIN:STANDARD
TZOFFSETFROM:+0000
TZOFFSETTO:+0000
TZNAME:UTC
DTSTART:20180101T000000
END:STANDARD
END:VTIMEZONE
BEGIN:VEVENT
DTSTART;TZID=UTC:20190227T090000
DTEND;TZID=UTC:20190227T090000
DTSTAMP:20260423T011616
CREATED:20190222T160006Z
LAST-MODIFIED:20190222T160006Z
UID:3720-1551258000-1551258000@cottonendforestschool.co.uk
SUMMARY:Preschool parent consultations
DESCRIPTION:
URL:https://cottonendforestschool.co.uk/event/preschool-parent-consultations-2/
END:VEVENT
END:VCALENDAR