BEGIN:VCALENDAR
VERSION:2.0
PRODID:-//Cotton End Primary School - ECPv6.15.17//NONSGML v1.0//EN
CALSCALE:GREGORIAN
METHOD:PUBLISH
X-ORIGINAL-URL:https://cottonendforestschool.co.uk
X-WR-CALDESC:Events for Cotton End Primary School
REFRESH-INTERVAL;VALUE=DURATION:PT1H
X-Robots-Tag:noindex
X-PUBLISHED-TTL:PT1H
BEGIN:VTIMEZONE
TZID:UTC
BEGIN:STANDARD
TZOFFSETFROM:+0000
TZOFFSETTO:+0000
TZNAME:UTC
DTSTART:20180101T000000
END:STANDARD
END:VTIMEZONE
BEGIN:VEVENT
DTSTART;TZID=UTC:20190226T153000
DTEND;TZID=UTC:20190226T153000
DTSTAMP:20260423T011616
CREATED:20190208T135114Z
LAST-MODIFIED:20190208T135114Z
UID:3678-1551195000-1551195000@cottonendforestschool.co.uk
SUMMARY:Dance club starts after school today until 4.30pm - Kingfishers\, Eagles and Kestrels
DESCRIPTION:
URL:https://cottonendforestschool.co.uk/event/dance-club-starts-after-school-today-until-4-30pm-kingfishers-eagles-and-kestrels/
END:VEVENT
END:VCALENDAR