BEGIN:VCALENDAR
VERSION:2.0
PRODID:-//Cotton End Primary School - ECPv6.15.17//NONSGML v1.0//EN
CALSCALE:GREGORIAN
METHOD:PUBLISH
X-WR-CALNAME:Cotton End Primary School
X-ORIGINAL-URL:https://cottonendforestschool.co.uk
X-WR-CALDESC:Events for Cotton End Primary School
REFRESH-INTERVAL;VALUE=DURATION:PT1H
X-Robots-Tag:noindex
X-PUBLISHED-TTL:PT1H
BEGIN:VTIMEZONE
TZID:UTC
BEGIN:STANDARD
TZOFFSETFROM:+0000
TZOFFSETTO:+0000
TZNAME:UTC
DTSTART:20180101T000000
END:STANDARD
END:VTIMEZONE
BEGIN:VEVENT
DTSTART;TZID=UTC:20190225T090000
DTEND;TZID=UTC:20190225T090000
DTSTAMP:20260423T011555
CREATED:20190208T135845Z
LAST-MODIFIED:20190208T135845Z
UID:3688-1551085200-1551085200@cottonendforestschool.co.uk
SUMMARY:Parent Consultations- Willows\, Owls\, Kingfishers\, Eagles and Kestrels
DESCRIPTION:
URL:https://cottonendforestschool.co.uk/event/parent-consultations-willows-owls-kingfishers-eagles-and-kestrels/
END:VEVENT
BEGIN:VEVENT
DTSTART;TZID=UTC:20190225T090000
DTEND;TZID=UTC:20190225T090000
DTSTAMP:20260423T011555
CREATED:20190222T155923Z
LAST-MODIFIED:20190222T155923Z
UID:3718-1551085200-1551085200@cottonendforestschool.co.uk
SUMMARY:Preschool parent consultations
DESCRIPTION:
URL:https://cottonendforestschool.co.uk/event/preschool-parent-consultations/
END:VEVENT
END:VCALENDAR