BEGIN:VCALENDAR
VERSION:2.0
PRODID:-//Cotton End Primary School - ECPv6.15.17//NONSGML v1.0//EN
CALSCALE:GREGORIAN
METHOD:PUBLISH
X-WR-CALNAME:Cotton End Primary School
X-ORIGINAL-URL:https://cottonendforestschool.co.uk
X-WR-CALDESC:Events for Cotton End Primary School
REFRESH-INTERVAL;VALUE=DURATION:PT1H
X-Robots-Tag:noindex
X-PUBLISHED-TTL:PT1H
BEGIN:VTIMEZONE
TZID:UTC
BEGIN:STANDARD
TZOFFSETFROM:+0000
TZOFFSETTO:+0000
TZNAME:UTC
DTSTART:20180101T000000
END:STANDARD
END:VTIMEZONE
BEGIN:VEVENT
DTSTART;TZID=UTC:20190204T080000
DTEND;TZID=UTC:20190204T153000
DTSTAMP:20260423T025704
CREATED:20190128T140151Z
LAST-MODIFIED:20190128T141451Z
UID:3651-1549267200-1549294200@cottonendforestschool.co.uk
SUMMARY:Shine Bright\, Wear Bright - please wear brightly coloured clothes to school and donate £1 to CHUMS
DESCRIPTION:
URL:https://cottonendforestschool.co.uk/event/shine-bright-wear-bright-please-wear-brightly-coloured-clothes-to-school-and-donate-1-to-chums/
END:VEVENT
BEGIN:VEVENT
DTSTART;TZID=UTC:20190204T080000
DTEND;TZID=UTC:20190204T170000
DTSTAMP:20260423T025704
CREATED:20190128T135942Z
LAST-MODIFIED:20190128T141317Z
UID:3649-1549267200-1549299600@cottonendforestschool.co.uk
SUMMARY:Children's Mental Health Awareness Week
DESCRIPTION:
URL:https://cottonendforestschool.co.uk/event/childrens-mental-health-awareness-week/
END:VEVENT
END:VCALENDAR