BEGIN:VCALENDAR
VERSION:2.0
PRODID:-//Cotton End Primary School - ECPv6.15.17//NONSGML v1.0//EN
CALSCALE:GREGORIAN
METHOD:PUBLISH
X-WR-CALNAME:Cotton End Primary School
X-ORIGINAL-URL:https://cottonendforestschool.co.uk
X-WR-CALDESC:Events for Cotton End Primary School
REFRESH-INTERVAL;VALUE=DURATION:PT1H
X-Robots-Tag:noindex
X-PUBLISHED-TTL:PT1H
BEGIN:VTIMEZONE
TZID:UTC
BEGIN:STANDARD
TZOFFSETFROM:+0000
TZOFFSETTO:+0000
TZNAME:UTC
DTSTART:20170101T000000
END:STANDARD
END:VTIMEZONE
BEGIN:VEVENT
DTSTART;TZID=UTC:20181112T080000
DTEND;TZID=UTC:20181116T153000
DTSTAMP:20260423T081224
CREATED:20181109T144102Z
LAST-MODIFIED:20181109T144102Z
UID:3523-1542009600-1542382200@cottonendforestschool.co.uk
SUMMARY:Anti Bullying week
DESCRIPTION:
URL:https://cottonendforestschool.co.uk/event/anti-bullying-week/
END:VEVENT
END:VCALENDAR