BEGIN:VCALENDAR
VERSION:2.0
PRODID:-//Cotton End Primary School - ECPv6.15.17//NONSGML v1.0//EN
CALSCALE:GREGORIAN
METHOD:PUBLISH
X-ORIGINAL-URL:https://cottonendforestschool.co.uk
X-WR-CALDESC:Events for Cotton End Primary School
REFRESH-INTERVAL;VALUE=DURATION:PT1H
X-Robots-Tag:noindex
X-PUBLISHED-TTL:PT1H
BEGIN:VTIMEZONE
TZID:UTC
BEGIN:STANDARD
TZOFFSETFROM:+0000
TZOFFSETTO:+0000
TZNAME:UTC
DTSTART:20170101T000000
END:STANDARD
END:VTIMEZONE
BEGIN:VEVENT
DTSTART;VALUE=DATE:20181019
DTEND;VALUE=DATE:20181020
DTSTAMP:20260423T095204
CREATED:20180921T132420Z
LAST-MODIFIED:20180921T132420Z
UID:3346-1539907200-1539993599@cottonendforestschool.co.uk
SUMMARY:Last day of school before half term break
DESCRIPTION:
URL:https://cottonendforestschool.co.uk/event/last-day-of-school-before-half-term-break/
END:VEVENT
BEGIN:VEVENT
DTSTART;TZID=UTC:20181019T124000
DTEND;TZID=UTC:20181019T131000
DTSTAMP:20260423T095204
CREATED:20180921T131657Z
LAST-MODIFIED:20180921T131657Z
UID:3333-1539952800-1539954600@cottonendforestschool.co.uk
SUMMARY:Last lunchtime Football club today for Kestrels class
DESCRIPTION:
URL:https://cottonendforestschool.co.uk/event/last-lunchtime-football-club-today-for-kestrels-class/
END:VEVENT
END:VCALENDAR