BEGIN:VCALENDAR
VERSION:2.0
PRODID:-//Cotton End Primary School - ECPv6.15.17//NONSGML v1.0//EN
CALSCALE:GREGORIAN
METHOD:PUBLISH
X-ORIGINAL-URL:https://cottonendforestschool.co.uk
X-WR-CALDESC:Events for Cotton End Primary School
REFRESH-INTERVAL;VALUE=DURATION:PT1H
X-Robots-Tag:noindex
X-PUBLISHED-TTL:PT1H
BEGIN:VTIMEZONE
TZID:UTC
BEGIN:STANDARD
TZOFFSETFROM:+0000
TZOFFSETTO:+0000
TZNAME:UTC
DTSTART:20170101T000000
END:STANDARD
END:VTIMEZONE
BEGIN:VEVENT
DTSTART;TZID=UTC:20181016T153000
DTEND;TZID=UTC:20181016T163000
DTSTAMP:20260423T095204
CREATED:20180921T132604Z
LAST-MODIFIED:20180921T132604Z
UID:3351-1539703800-1539707400@cottonendforestschool.co.uk
SUMMARY:Last after school Dance club until 4.30pm with performance at 4.15pm
DESCRIPTION:
URL:https://cottonendforestschool.co.uk/event/last-after-school-dance-club-until-4-30pm-with-performance-at-4-15pm/
END:VEVENT
BEGIN:VEVENT
DTSTART;TZID=UTC:20181016T183000
DTEND;TZID=UTC:20181016T183000
DTSTAMP:20260423T095204
CREATED:20181011T080746Z
LAST-MODIFIED:20181011T080746Z
UID:3446-1539714600-1539714600@cottonendforestschool.co.uk
SUMMARY:PTFA AGM in the school hall at 6.30pm all welcome
DESCRIPTION:
URL:https://cottonendforestschool.co.uk/event/ptfa-agm-in-the-school-hall-at-6-30pm-all-welcome/
END:VEVENT
END:VCALENDAR