BEGIN:VCALENDAR
VERSION:2.0
PRODID:-//Cotton End Primary School - ECPv6.15.17//NONSGML v1.0//EN
CALSCALE:GREGORIAN
METHOD:PUBLISH
X-WR-CALNAME:Cotton End Primary School
X-ORIGINAL-URL:https://cottonendforestschool.co.uk
X-WR-CALDESC:Events for Cotton End Primary School
REFRESH-INTERVAL;VALUE=DURATION:PT1H
X-Robots-Tag:noindex
X-PUBLISHED-TTL:PT1H
BEGIN:VTIMEZONE
TZID:UTC
BEGIN:STANDARD
TZOFFSETFROM:+0000
TZOFFSETTO:+0000
TZNAME:UTC
DTSTART:20170101T000000
END:STANDARD
END:VTIMEZONE
BEGIN:VEVENT
DTSTART;TZID=UTC:20181008T084500
DTEND;TZID=UTC:20181008T084500
DTSTAMP:20260423T095158
CREATED:20180928T100948Z
LAST-MODIFIED:20180928T100948Z
UID:3397-1538988300-1538988300@cottonendforestschool.co.uk
SUMMARY:Parent Consultations for Owls\, Kingfishers\, Eagles & Kestrels class
DESCRIPTION:
URL:https://cottonendforestschool.co.uk/event/parent-consultations-for-owls-kingfishers-eagles-kestrels-class/
END:VEVENT
END:VCALENDAR