BEGIN:VCALENDAR
VERSION:2.0
PRODID:-//Cotton End Primary School - ECPv6.15.17//NONSGML v1.0//EN
CALSCALE:GREGORIAN
METHOD:PUBLISH
X-ORIGINAL-URL:https://cottonendforestschool.co.uk
X-WR-CALDESC:Events for Cotton End Primary School
REFRESH-INTERVAL;VALUE=DURATION:PT1H
X-Robots-Tag:noindex
X-PUBLISHED-TTL:PT1H
BEGIN:VTIMEZONE
TZID:UTC
BEGIN:STANDARD
TZOFFSETFROM:+0000
TZOFFSETTO:+0000
TZNAME:UTC
DTSTART:20170101T000000
END:STANDARD
END:VTIMEZONE
BEGIN:VEVENT
DTSTART;TZID=UTC:20180918T153000
DTEND;TZID=UTC:20180918T163000
DTSTAMP:20260423T111939
CREATED:20180921T132831Z
LAST-MODIFIED:20180921T132831Z
UID:3357-1537284600-1537288200@cottonendforestschool.co.uk
SUMMARY:Dance club starts today after school until 4.30pm
DESCRIPTION:
URL:https://cottonendforestschool.co.uk/event/dance-club-starts-today-after-school-until-4-30pm/
END:VEVENT
END:VCALENDAR