BEGIN:VCALENDAR
VERSION:2.0
PRODID:-//Cotton End Primary School - ECPv6.15.17//NONSGML v1.0//EN
CALSCALE:GREGORIAN
METHOD:PUBLISH
X-WR-CALNAME:Cotton End Primary School
X-ORIGINAL-URL:https://cottonendforestschool.co.uk
X-WR-CALDESC:Events for Cotton End Primary School
REFRESH-INTERVAL;VALUE=DURATION:PT1H
X-Robots-Tag:noindex
X-PUBLISHED-TTL:PT1H
BEGIN:VTIMEZONE
TZID:UTC
BEGIN:STANDARD
TZOFFSETFROM:+0000
TZOFFSETTO:+0000
TZNAME:UTC
DTSTART:20170101T000000
END:STANDARD
END:VTIMEZONE
BEGIN:VEVENT
DTSTART;TZID=UTC:20180917T033000
DTEND;TZID=UTC:20180917T161500
DTSTAMP:20260423T111821
CREATED:20180921T132740Z
LAST-MODIFIED:20180921T132740Z
UID:3355-1537155000-1537200900@cottonendforestschool.co.uk
SUMMARY:Homework club starts today after school until 4.15pm
DESCRIPTION:
URL:https://cottonendforestschool.co.uk/event/homework-club-starts-today-after-school-until-4-15pm/
END:VEVENT
BEGIN:VEVENT
DTSTART;TZID=UTC:20180917T083000
DTEND;TZID=UTC:20180917T103000
DTSTAMP:20260423T111821
CREATED:20180921T133008Z
LAST-MODIFIED:20180921T133008Z
UID:3361-1537173000-1537180200@cottonendforestschool.co.uk
SUMMARY:Tempest photography visiting to take photos for Willows\, Owls\, Kingfishers\, Eagles & Kestrels
DESCRIPTION:
URL:https://cottonendforestschool.co.uk/event/tempest-photography-visiting-to-take-photos-for-willows-owls-kingfishers-eagles-kestrels/
END:VEVENT
END:VCALENDAR